BEGIN:VCALENDAR
VERSION:2.0
PRODID:-//Mount Joy Area Chamber of Commerce | PA - ECPv6.15.20//NONSGML v1.0//EN
CALSCALE:GREGORIAN
METHOD:PUBLISH
X-ORIGINAL-URL:https://mountjoychamber.com
X-WR-CALDESC:Events for Mount Joy Area Chamber of Commerce | PA
REFRESH-INTERVAL;VALUE=DURATION:PT1H
X-Robots-Tag:noindex
X-PUBLISHED-TTL:PT1H
BEGIN:VTIMEZONE
TZID:America/New_York
BEGIN:DAYLIGHT
TZOFFSETFROM:-0500
TZOFFSETTO:-0400
TZNAME:EDT
DTSTART:20250309T070000
END:DAYLIGHT
BEGIN:STANDARD
TZOFFSETFROM:-0400
TZOFFSETTO:-0500
TZNAME:EST
DTSTART:20251102T060000
END:STANDARD
BEGIN:DAYLIGHT
TZOFFSETFROM:-0500
TZOFFSETTO:-0400
TZNAME:EDT
DTSTART:20260308T070000
END:DAYLIGHT
BEGIN:STANDARD
TZOFFSETFROM:-0400
TZOFFSETTO:-0500
TZNAME:EST
DTSTART:20261101T060000
END:STANDARD
BEGIN:DAYLIGHT
TZOFFSETFROM:-0500
TZOFFSETTO:-0400
TZNAME:EDT
DTSTART:20270314T070000
END:DAYLIGHT
BEGIN:STANDARD
TZOFFSETFROM:-0400
TZOFFSETTO:-0500
TZNAME:EST
DTSTART:20271107T060000
END:STANDARD
END:VTIMEZONE
BEGIN:VEVENT
DTSTART;TZID=America/New_York:20260815T110000
DTEND;TZID=America/New_York:20260815T170000
DTSTAMP:20260425T190042
CREATED:20260408T140849Z
LAST-MODIFIED:20260408T140849Z
UID:10000306-1786791600-1786813200@mountjoychamber.com
SUMMARY:1st Annual Mount Joy Toy and Game Show - Member-Hosted Event
DESCRIPTION:1st Annual Mount Joy Toy and Game Show \nDave’s Toybox and The Dice Goblin are excited to host a family-friendly celebration of toys\, comics\, gaming\, art\, and pop culture right here in the Mount Joy community. This event brings together local vendors\, creators\, collectors\, and families for a day centered on creativity\, connection\, and imagination.\n  \nAdmission is $10 – at the door. One child 10 and under gets in free with each admission ticket.\n  \nVendor applications are open! The only points of contact for vendor and sponsor applications will be Dave’s Toybox and The Dice Goblin.\n  \nAll proceeds from this event will be split between Friends of Donegal and Extra Life Hershey.
URL:https://mountjoychamber.com/event/1st-annual-mount-joy-toy-and-game-show-member-hosted-event/
LOCATION:Melhorn Manor\, 977 West Main Street\, Mount Joy\, PA\, 17552\, United States
CATEGORIES:Community,Family,Member-Hosted Event
END:VEVENT
END:VCALENDAR