BEGIN:VCALENDAR
VERSION:2.0
PRODID:-//Mount Joy Area Chamber of Commerce | PA - ECPv6.15.20//NONSGML v1.0//EN
CALSCALE:GREGORIAN
METHOD:PUBLISH
X-ORIGINAL-URL:https://mountjoychamber.com
X-WR-CALDESC:Events for Mount Joy Area Chamber of Commerce | PA
REFRESH-INTERVAL;VALUE=DURATION:PT1H
X-Robots-Tag:noindex
X-PUBLISHED-TTL:PT1H
BEGIN:VTIMEZONE
TZID:America/New_York
BEGIN:DAYLIGHT
TZOFFSETFROM:-0500
TZOFFSETTO:-0400
TZNAME:EDT
DTSTART:20250309T070000
END:DAYLIGHT
BEGIN:STANDARD
TZOFFSETFROM:-0400
TZOFFSETTO:-0500
TZNAME:EST
DTSTART:20251102T060000
END:STANDARD
BEGIN:DAYLIGHT
TZOFFSETFROM:-0500
TZOFFSETTO:-0400
TZNAME:EDT
DTSTART:20260308T070000
END:DAYLIGHT
BEGIN:STANDARD
TZOFFSETFROM:-0400
TZOFFSETTO:-0500
TZNAME:EST
DTSTART:20261101T060000
END:STANDARD
BEGIN:DAYLIGHT
TZOFFSETFROM:-0500
TZOFFSETTO:-0400
TZNAME:EDT
DTSTART:20270314T070000
END:DAYLIGHT
BEGIN:STANDARD
TZOFFSETFROM:-0400
TZOFFSETTO:-0500
TZNAME:EST
DTSTART:20271107T060000
END:STANDARD
END:VTIMEZONE
BEGIN:VEVENT
DTSTART;TZID=America/New_York:20260515T180000
DTEND;TZID=America/New_York:20260515T200000
DTSTAMP:20260425T214136
CREATED:20260423T181038Z
LAST-MODIFIED:20260423T181140Z
UID:10000382-1778868000-1778875200@mountjoychamber.com
SUMMARY:Refresh & Radiate Women's Vendor Market - Member-Hosted Event
DESCRIPTION:REFRESH & RADIATE WOMEN’S VENDOR MARKET \nFriday\, May15 | 6:00-8:00PM\nJuniper Village at Mount Joy Lobby \nJoin us for an uplifting evening celebrating women\, wellness\, and community! Browse 12+ local vendors for unique handmade goods and self-care items\, and enjoy light refreshments from our dining team. \nNil’s Funnel Cakes food truck will also be on-site with delicious empanadas and treats available for purchase. \nBring a friend and treat yourself to an experience designed to help you refresh\, radiate\, and support local women!
URL:https://mountjoychamber.com/event/refresh-radiate-womens-vendor-market-member-hosted-event/
LOCATION:Juniper Village\, 607 Hearthstone Lane\, Mount Joy\, PA\, 17552\, United States
CATEGORIES:Community,Member-Hosted Event
END:VEVENT
END:VCALENDAR