BEGIN:VCALENDAR
VERSION:2.0
PRODID:-//Mount Joy Area Chamber of Commerce | PA - ECPv6.15.20//NONSGML v1.0//EN
CALSCALE:GREGORIAN
METHOD:PUBLISH
X-ORIGINAL-URL:https://mountjoychamber.com
X-WR-CALDESC:Events for Mount Joy Area Chamber of Commerce | PA
REFRESH-INTERVAL;VALUE=DURATION:PT1H
X-Robots-Tag:noindex
X-PUBLISHED-TTL:PT1H
BEGIN:VTIMEZONE
TZID:America/New_York
BEGIN:DAYLIGHT
TZOFFSETFROM:-0500
TZOFFSETTO:-0400
TZNAME:EDT
DTSTART:20250309T070000
END:DAYLIGHT
BEGIN:STANDARD
TZOFFSETFROM:-0400
TZOFFSETTO:-0500
TZNAME:EST
DTSTART:20251102T060000
END:STANDARD
BEGIN:DAYLIGHT
TZOFFSETFROM:-0500
TZOFFSETTO:-0400
TZNAME:EDT
DTSTART:20260308T070000
END:DAYLIGHT
BEGIN:STANDARD
TZOFFSETFROM:-0400
TZOFFSETTO:-0500
TZNAME:EST
DTSTART:20261101T060000
END:STANDARD
BEGIN:DAYLIGHT
TZOFFSETFROM:-0500
TZOFFSETTO:-0400
TZNAME:EDT
DTSTART:20270314T070000
END:DAYLIGHT
BEGIN:STANDARD
TZOFFSETFROM:-0400
TZOFFSETTO:-0500
TZNAME:EST
DTSTART:20271107T060000
END:STANDARD
END:VTIMEZONE
BEGIN:VEVENT
DTSTART;TZID=America/New_York:20260518T190000
DTEND;TZID=America/New_York:20260518T200000
DTSTAMP:20260425T172733
CREATED:20260304T135138Z
LAST-MODIFIED:20260304T135138Z
UID:10000276-1779130800-1779134400@mountjoychamber.com
SUMMARY:Pilgrims/Mayflower Reenactment - Member-Hosted Event
DESCRIPTION:Pilgrims/Mayflower Reenactment – Mount Joy Area Historical Society Speaker Series \nRefreshments and tours of the museum follow the program. These meetings are free and open to the public\, with donations are gratefully accepted.
URL:https://mountjoychamber.com/event/pilgrims-mayflower-reenactment-member-hosted-event/
LOCATION:Mount Joy Area Historical Society\, 120 Fairview Street\, Mount Joy\, PA\, 17552\, United States
CATEGORIES:Community,Educational,Member-Hosted Event
END:VEVENT
BEGIN:VEVENT
DTSTART;TZID=America/New_York:20260615T190000
DTEND;TZID=America/New_York:20260615T200000
DTSTAMP:20260425T172733
CREATED:20260304T135217Z
LAST-MODIFIED:20260304T135217Z
UID:10000277-1781550000-1781553600@mountjoychamber.com
SUMMARY:The Rock Point Schoolhouse - Member-Hosted Event
DESCRIPTION:The Rock Point Schoolhouse – Mount Joy Area Historical Society Speaker Series \nRefreshments and tours of the museum follow the program. These meetings are free and open to the public\, with donations are gratefully accepted.
URL:https://mountjoychamber.com/event/the-rock-point-schoolhouse-member-hosted-event/
LOCATION:Mount Joy Area Historical Society\, 120 Fairview Street\, Mount Joy\, PA\, 17552\, United States
CATEGORIES:Community,Educational,Member-Hosted Event
END:VEVENT
BEGIN:VEVENT
DTSTART;TZID=America/New_York:20260720T190000
DTEND;TZID=America/New_York:20260720T200000
DTSTAMP:20260425T172733
CREATED:20260304T141005Z
LAST-MODIFIED:20260304T173653Z
UID:10000278-1784574000-1784577600@mountjoychamber.com
SUMMARY:Native American Peoples of the Susquehanna - Member-Hosted Event
DESCRIPTION:Native American Peoples of the Susquehanna – Mount Joy Area Historical Society Speaker Series \nRefreshments and tours of the museum follow the program. These meetings are free and open to the public\, with donations are gratefully accepted.
URL:https://mountjoychamber.com/event/native-american-peoples-of-the-susquehanna/
LOCATION:Mount Joy Area Historical Society\, 120 Fairview Street\, Mount Joy\, PA\, 17552\, United States
CATEGORIES:Community,Educational,Member-Hosted Event
END:VEVENT
BEGIN:VEVENT
DTSTART;TZID=America/New_York:20260801T080000
DTEND;TZID=America/New_York:20260801T131500
DTSTAMP:20260425T172733
CREATED:20260304T133929Z
LAST-MODIFIED:20260304T133929Z
UID:10000273-1785571200-1785590100@mountjoychamber.com
SUMMARY:Mount Joy Area Historical Society Plein Air Quick Draw  - Member-Hosted Event
DESCRIPTION:Mount Joy Area Historical Society Plein Air Quick Draw  \n\nWhen: Saturday\, August 1\, 2026\n8:00am – 10:00am Registration and setup\n10:00am – Noon Painting\nNoon – 12:30pm Return finished pieces to historical society\n12:30pm – 1:15pm Judging and public viewing\n1:15pm Awards ceremony\n2:00pm Pick up all unsold artwork\nRegistration Location: Mount Joy Borough office building – 21 E Main Street\, Mount Joy\nJudging: Mount Joy Area Historical Society – 120 Fairview Street\, Mount Joy\nPaint Out Area: The downtown Mount Joy Area.\nSubject Matter: Anything observed within the paint out area. Artists are encouraged (but not required) to paint Mount Joy’s buildings as a way to capture our history.\nCost: $10 to participate\, free to spectate!\n\nYou can register online here or sign up day of event
URL:https://mountjoychamber.com/event/mount-joy-area-historical-society-plein-air-quick-draw-member-hosted-event/
LOCATION:Mount Joy Area Historical Society\, 120 Fairview Street\, Mount Joy\, PA\, 17552\, United States
CATEGORIES:Community,Fundraier,Member-Hosted Event
END:VEVENT
BEGIN:VEVENT
DTSTART;TZID=America/New_York:20260817T190000
DTEND;TZID=America/New_York:20260817T200000
DTSTAMP:20260425T172733
CREATED:20260304T141339Z
LAST-MODIFIED:20260304T141339Z
UID:10000280-1786993200-1786996800@mountjoychamber.com
SUMMARY:Edgar Allan Poe’s Lancaster Connection - Member-Hosted Event
DESCRIPTION:Edgar Allan Poe’s Lancaster Connection – Mount Joy Area Historical Society Speaker Series \nRefreshments and tours of the museum follow the program. These meetings are free and open to the public\, with donations are gratefully accepted.
URL:https://mountjoychamber.com/event/edgar-allan-poes-lancaster-connection-member-hosted-event/
LOCATION:Mount Joy Area Historical Society\, 120 Fairview Street\, Mount Joy\, PA\, 17552\, United States
CATEGORIES:Community,Educational,Member-Hosted Event
END:VEVENT
BEGIN:VEVENT
DTSTART;TZID=America/New_York:20260921T190000
DTEND;TZID=America/New_York:20260921T200000
DTSTAMP:20260425T172733
CREATED:20260304T141412Z
LAST-MODIFIED:20260304T141412Z
UID:10000281-1790017200-1790020800@mountjoychamber.com
SUMMARY:Lincoln Funeral Train in PA - Member-Hosted Event
DESCRIPTION:Lincoln Funeral Train in PA – Mount Joy Area Historical Society Speaker Series \nRefreshments and tours of the museum follow the program. These meetings are free and open to the public\, with donations are gratefully accepted.
URL:https://mountjoychamber.com/event/lincoln-funeral-train-in-pa-member-hosted-event/
LOCATION:Mount Joy Area Historical Society\, 120 Fairview Street\, Mount Joy\, PA\, 17552\, United States
CATEGORIES:Community,Educational,Member-Hosted Event
END:VEVENT
BEGIN:VEVENT
DTSTART;TZID=America/New_York:20261019T190000
DTEND;TZID=America/New_York:20261019T200000
DTSTAMP:20260425T172733
CREATED:20260304T141618Z
LAST-MODIFIED:20260304T141618Z
UID:10000283-1792436400-1792440000@mountjoychamber.com
SUMMARY:Antique Phonographs - Member-Hosted Event
DESCRIPTION:Antique Phonographs – Mount Joy Area Historical Society Speaker Series \nRefreshments and tours of the museum follow the program. These meetings are free and open to the public\, with donations are gratefully accepted.
URL:https://mountjoychamber.com/event/antique-phonographs-member-hosted-event/
LOCATION:Mount Joy Area Historical Society\, 120 Fairview Street\, Mount Joy\, PA\, 17552\, United States
CATEGORIES:Community,Educational,Member-Hosted Event
END:VEVENT
BEGIN:VEVENT
DTSTART;TZID=America/New_York:20261116T190000
DTEND;TZID=America/New_York:20261116T200000
DTSTAMP:20260425T172733
CREATED:20260304T141448Z
LAST-MODIFIED:20260304T173744Z
UID:10000282-1794855600-1794859200@mountjoychamber.com
SUMMARY:WWI Doughboys - Member-Hosted Event
DESCRIPTION:WWI Doughboys – Mount Joy Area Historical Society Speaker Series \nRefreshments and tours of the museum follow the program. These meetings are free and open to the public\, with donations are gratefully accepted.
URL:https://mountjoychamber.com/event/wwi-doughboys/
LOCATION:Mount Joy Area Historical Society\, 120 Fairview Street\, Mount Joy\, PA\, 17552\, United States
CATEGORIES:Community,Educational,Member-Hosted Event
END:VEVENT
END:VCALENDAR