BEGIN:VCALENDAR
VERSION:2.0
PRODID:-//Mount Joy Area Chamber of Commerce | PA - ECPv6.15.20//NONSGML v1.0//EN
CALSCALE:GREGORIAN
METHOD:PUBLISH
X-ORIGINAL-URL:https://mountjoychamber.com
X-WR-CALDESC:Events for Mount Joy Area Chamber of Commerce | PA
REFRESH-INTERVAL;VALUE=DURATION:PT1H
X-Robots-Tag:noindex
X-PUBLISHED-TTL:PT1H
BEGIN:VTIMEZONE
TZID:America/New_York
BEGIN:DAYLIGHT
TZOFFSETFROM:-0500
TZOFFSETTO:-0400
TZNAME:EDT
DTSTART:20250309T070000
END:DAYLIGHT
BEGIN:STANDARD
TZOFFSETFROM:-0400
TZOFFSETTO:-0500
TZNAME:EST
DTSTART:20251102T060000
END:STANDARD
BEGIN:DAYLIGHT
TZOFFSETFROM:-0500
TZOFFSETTO:-0400
TZNAME:EDT
DTSTART:20260308T070000
END:DAYLIGHT
BEGIN:STANDARD
TZOFFSETFROM:-0400
TZOFFSETTO:-0500
TZNAME:EST
DTSTART:20261101T060000
END:STANDARD
BEGIN:DAYLIGHT
TZOFFSETFROM:-0500
TZOFFSETTO:-0400
TZNAME:EDT
DTSTART:20270314T070000
END:DAYLIGHT
BEGIN:STANDARD
TZOFFSETFROM:-0400
TZOFFSETTO:-0500
TZNAME:EST
DTSTART:20271107T060000
END:STANDARD
END:VTIMEZONE
BEGIN:VEVENT
DTSTART;TZID=America/New_York:20260507T160000
DTEND;TZID=America/New_York:20260507T190000
DTSTAMP:20260424T170623
CREATED:20260421T144706Z
LAST-MODIFIED:20260421T175023Z
UID:10000378-1778169600-1778180400@mountjoychamber.com
SUMMARY:Drohan Brick & Hardscaping Annual Open House 2026 - Member-Hosted Event
DESCRIPTION:Drohan Brick & Hardscaping Annual Open House Event 2026 \nExperience our 2026 outdoor living displays\, fire pits\, outdoor kitchen\, bar and brick oven.\nChat with each of our onsite product representatives about your projects and ideas.
URL:https://mountjoychamber.com/event/drohan-brick-and-hardscaping-annual-open-house-event-2026-member-hosted-event/
LOCATION:Drohan Brick & Supply Inc.\, 3571 Mount Joy Road\, Mount Joy\, PA\, 17552\, United States
CATEGORIES:Community,Member-Hosted Event,Open House
END:VEVENT
END:VCALENDAR