BEGIN:VCALENDAR
VERSION:2.0
PRODID:-//Mount Joy Area Chamber of Commerce | PA - ECPv6.15.20//NONSGML v1.0//EN
CALSCALE:GREGORIAN
METHOD:PUBLISH
X-WR-CALNAME:Mount Joy Area Chamber of Commerce | PA
X-ORIGINAL-URL:https://mountjoychamber.com
X-WR-CALDESC:Events for Mount Joy Area Chamber of Commerce | PA
REFRESH-INTERVAL;VALUE=DURATION:PT1H
X-Robots-Tag:noindex
X-PUBLISHED-TTL:PT1H
BEGIN:VTIMEZONE
TZID:America/New_York
BEGIN:DAYLIGHT
TZOFFSETFROM:-0500
TZOFFSETTO:-0400
TZNAME:EDT
DTSTART:20250309T070000
END:DAYLIGHT
BEGIN:STANDARD
TZOFFSETFROM:-0400
TZOFFSETTO:-0500
TZNAME:EST
DTSTART:20251102T060000
END:STANDARD
BEGIN:DAYLIGHT
TZOFFSETFROM:-0500
TZOFFSETTO:-0400
TZNAME:EDT
DTSTART:20260308T070000
END:DAYLIGHT
BEGIN:STANDARD
TZOFFSETFROM:-0400
TZOFFSETTO:-0500
TZNAME:EST
DTSTART:20261101T060000
END:STANDARD
BEGIN:DAYLIGHT
TZOFFSETFROM:-0500
TZOFFSETTO:-0400
TZNAME:EDT
DTSTART:20270314T070000
END:DAYLIGHT
BEGIN:STANDARD
TZOFFSETFROM:-0400
TZOFFSETTO:-0500
TZNAME:EST
DTSTART:20271107T060000
END:STANDARD
END:VTIMEZONE
BEGIN:VEVENT
DTSTART;VALUE=DATE:20260509
DTEND;VALUE=DATE:20260510
DTSTAMP:20260424T160853
CREATED:20260304T172938Z
LAST-MODIFIED:20260421T174647Z
UID:10000284-1778284800-1778371199@mountjoychamber.com
SUMMARY:Annual Plant Sale and Spring Open House 2026 - Member-Hosted Event
DESCRIPTION:Annual Plant Sale and Spring Open House 2026  \nVisit https://heritagecreekfarmcamp.com/public-events for details.
URL:https://mountjoychamber.com/event/annual-plant-sale-and-spring-open-house/
LOCATION:Heritage Creek Farm & Education Center\, 2126 Rissermill Road\, Mount Joy\, 17552\, United States
CATEGORIES:Community,Educational,Family,Food,Member-Hosted Event
END:VEVENT
BEGIN:VEVENT
DTSTART;VALUE=DATE:20260822
DTEND;VALUE=DATE:20260823
DTSTAMP:20260424T160853
CREATED:20260304T173152Z
LAST-MODIFIED:20260304T173152Z
UID:10000285-1787356800-1787443199@mountjoychamber.com
SUMMARY:Summer: Farm Olympics - Member-Hosted Event
DESCRIPTION:Summer: Farm Olympics \nVisit https://heritagecreekfarmcamp.com/public-events for details.
URL:https://mountjoychamber.com/event/summer-farm-olympics-member-hosted-event/
LOCATION:Heritage Creek Farm & Education Center\, 2126 Rissermill Road\, Mount Joy\, 17552\, United States
CATEGORIES:Community,Educational,Family,Food,Member-Hosted Event
END:VEVENT
BEGIN:VEVENT
DTSTART;VALUE=DATE:20261024
DTEND;VALUE=DATE:20261025
DTSTAMP:20260424T160853
CREATED:20260304T173342Z
LAST-MODIFIED:20260304T173342Z
UID:10000286-1792800000-1792886399@mountjoychamber.com
SUMMARY:Fall: Harvest Fest & STEM Quest  - Member-Hosted Event
DESCRIPTION:Fall: Harvest Fest & STEM Quest \nVisit https://heritagecreekfarmcamp.com/public-events for details.
URL:https://mountjoychamber.com/event/fall-harvest-fest-stem-quest/
LOCATION:Heritage Creek Farm & Education Center\, 2126 Rissermill Road\, Mount Joy\, 17552\, United States
CATEGORIES:Community,Educational,Family,Food,Member-Hosted Event
END:VEVENT
BEGIN:VEVENT
DTSTART;VALUE=DATE:20261121
DTEND;VALUE=DATE:20261122
DTSTAMP:20260424T160853
CREATED:20260304T173505Z
LAST-MODIFIED:20260316T142051Z
UID:10000287-1795219200-1795305599@mountjoychamber.com
SUMMARY:Winter: Sinterklaus 2026 - Member-Hosted Event
DESCRIPTION:Winter: Sinterklaus \nVisit https://heritagecreekfarmcamp.com/public-events for details.
URL:https://mountjoychamber.com/event/winter-sinterklaus/
LOCATION:Heritage Creek Farm & Education Center\, 2126 Rissermill Road\, Mount Joy\, 17552\, United States
CATEGORIES:Community,Educational,Family,Food,Member-Hosted Event
END:VEVENT
END:VCALENDAR