BEGIN:VCALENDAR
VERSION:2.0
PRODID:-//Mount Joy Area Chamber of Commerce | PA - ECPv6.15.20//NONSGML v1.0//EN
CALSCALE:GREGORIAN
METHOD:PUBLISH
X-ORIGINAL-URL:https://mountjoychamber.com
X-WR-CALDESC:Events for Mount Joy Area Chamber of Commerce | PA
REFRESH-INTERVAL;VALUE=DURATION:PT1H
X-Robots-Tag:noindex
X-PUBLISHED-TTL:PT1H
BEGIN:VTIMEZONE
TZID:America/New_York
BEGIN:DAYLIGHT
TZOFFSETFROM:-0500
TZOFFSETTO:-0400
TZNAME:EDT
DTSTART:20250309T070000
END:DAYLIGHT
BEGIN:STANDARD
TZOFFSETFROM:-0400
TZOFFSETTO:-0500
TZNAME:EST
DTSTART:20251102T060000
END:STANDARD
BEGIN:DAYLIGHT
TZOFFSETFROM:-0500
TZOFFSETTO:-0400
TZNAME:EDT
DTSTART:20260308T070000
END:DAYLIGHT
BEGIN:STANDARD
TZOFFSETFROM:-0400
TZOFFSETTO:-0500
TZNAME:EST
DTSTART:20261101T060000
END:STANDARD
BEGIN:DAYLIGHT
TZOFFSETFROM:-0500
TZOFFSETTO:-0400
TZNAME:EDT
DTSTART:20270314T070000
END:DAYLIGHT
BEGIN:STANDARD
TZOFFSETFROM:-0400
TZOFFSETTO:-0500
TZNAME:EST
DTSTART:20271107T060000
END:STANDARD
END:VTIMEZONE
BEGIN:VEVENT
DTSTART;TZID=America/New_York:20260425T130000
DTEND;TZID=America/New_York:20260425T170000
DTSTAMP:20260426T000558
CREATED:20260413T113037Z
LAST-MODIFIED:20260413T113037Z
UID:10000369-1777122000-1777136400@mountjoychamber.com
SUMMARY:The Fresh Brews of Mount Joy 2026 - Member-Hosted Event
DESCRIPTION:The Fresh Brews of Mount Joy 2026\n\n\n\n\nVoyage Mount Joy’s 90’s beer fest again will host highly acclaimed breweries offering the best from around the US. Dress to impress in your best retro swag\, and rock out to live music from the decade\, right downtown on Main Street Mount Joy! \n-50+ Breweries-Food trucks + vendors-Live band(s)-VIP hour w/ special pours-Brewery announcements dropping weekly – follow us here: https://www.facebook.com/events/2000029244112536 \nPortion of proceeds will benefit DAC (Donegal Athletic Club).  \nThe event will be held on Main St between the intersections of Market St and Marietta Ave.  This is a rain or shine event!  IDs will be checked before entry is permitted. \nTicket pricing gets you admission to the event space\, a branded taster cup\, and unlimited samples from all breweries for the duration of the event. VIP tickets allow access from 1pm-5pm and General Admission allows access from 2pm-5pm. \nFood trucks will be on site with plenty of offerings at an additional cost.
URL:https://mountjoychamber.com/event/the-fresh-brews-of-mount-joy-2026-member-hosted-event/
LOCATION:Main Street\, Mount Joy\, PA 17552
CATEGORIES:Food,Fundraier,Member-Hosted Event
END:VEVENT
END:VCALENDAR